BEGIN:VCALENDAR
VERSION:2.0
CALSCALE:GREGORIAN
METHOD:PUBLISH
PRODID://EPAS//480106
BEGIN:VEVENT
DTSTAMP:20260420T044155
VTIMEZONE:America/New_York
DTSTART:20260714T230000Z
DTEND:20260715T003000Z
UID:480106
SUMMARY:Library Book Club
LOCATION:
DESCRIPTION:Library Book Club\n\n07/14/26 07:00 PM EST\n - 07/14/26 08:30 PM EST
X-ALT-DESC;FMTTYPE=text/html:Library Book Club<br /><br />07/14/26 07:00 PM EST - 07/14/26 08:30 PM EST
PRIORITY:3
TRANSP:TRANSPARENT
BEGIN:VALARM
TRIGGER:-PT5M
ACTION:DISPLAY
DESCRIPTION:Reminder
END:VALARM
END:VEVENT
END:VCALENDAR
